BEGIN:VCALENDAR
VERSION:2.0
PRODID:-//Global Tamil Cultural Organization - ECPv6.15.14//NONSGML v1.0//EN
CALSCALE:GREGORIAN
METHOD:PUBLISH
X-WR-CALNAME:Global Tamil Cultural Organization
X-ORIGINAL-URL:https://gtco.ca
X-WR-CALDESC:Events for Global Tamil Cultural Organization
REFRESH-INTERVAL;VALUE=DURATION:PT1H
X-Robots-Tag:noindex
X-PUBLISHED-TTL:PT1H
BEGIN:VTIMEZONE
TZID:UTC
BEGIN:STANDARD
TZOFFSETFROM:+0000
TZOFFSETTO:+0000
TZNAME:UTC
DTSTART:20240101T000000
END:STANDARD
END:VTIMEZONE
BEGIN:VEVENT
DTSTART;TZID=UTC:20250101T000000
DTEND;TZID=UTC:20251130T000000
DTSTAMP:20260421T185228
CREATED:20250902T143105Z
LAST-MODIFIED:20250922T184756Z
UID:3272-1735689600-1764460800@gtco.ca
SUMMARY:Wellness Retreat for Older Seniors 2025 - Part 2
DESCRIPTION:Live activities 40 weeks starting from January to November 2025. \nInstructions in 3 languages – English\, French & Tamil \nInstructor : Swetha Para\nContact No : (647) 969 2661\nEmail : gtco360@gmail.com
URL:https://gtco.ca/event/wellness-retreat-for-older-seniors-2/
LOCATION:Wellness\, 1417 Rosebank Road\, Pickering\, Ontario
ATTACH;FMTTYPE=image/jpeg:https://gtco.ca/wp-content/uploads/2025/09/WhatsApp-Image-2025-09-02-at-19.21.40_a9a1ac96.jpg
ORGANIZER;CN="Global Tamil Cultural Organization":MAILTO:gtco360@gmail.com
END:VEVENT
END:VCALENDAR