BEGIN:VCALENDAR
VERSION:2.0
PRODID:-//Global Tamil Cultural Organization - ECPv6.15.14//NONSGML v1.0//EN
CALSCALE:GREGORIAN
METHOD:PUBLISH
X-WR-CALNAME:Global Tamil Cultural Organization
X-ORIGINAL-URL:https://gtco.ca
X-WR-CALDESC:Events for Global Tamil Cultural Organization
REFRESH-INTERVAL;VALUE=DURATION:PT1H
X-Robots-Tag:noindex
X-PUBLISHED-TTL:PT1H
BEGIN:VTIMEZONE
TZID:UTC
BEGIN:STANDARD
TZOFFSETFROM:+0000
TZOFFSETTO:+0000
TZNAME:UTC
DTSTART:20160101T000000
END:STANDARD
END:VTIMEZONE
BEGIN:VEVENT
DTSTART;VALUE=DATE:20231227
DTEND;VALUE=DATE:20240103
DTSTAMP:20260422T215140
CREATED:20171114T122929Z
LAST-MODIFIED:20250922T185920Z
UID:285-1703635200-1704239999@gtco.ca
SUMMARY:International Day for the Elimination of Racial Discrimination 2023
DESCRIPTION:Students of Niro Dance Creations performed this Sunday for the International Day for the Elimination of Racial Discrimination hosted by York Regional Police. It was a great event and our students performed beautifully. \n  \n  \n 
URL:https://gtco.ca/event/international-day-for-the-elimination-of-racial-discrimination/
LOCATION:Toronto\, Canada
ATTACH;FMTTYPE=image/jpeg:https://gtco.ca/wp-content/uploads/2017/11/Event-1.jpg
ORGANIZER;CN="Niro Dance Creations":MAILTO:nirodance17@gmail.com
END:VEVENT
BEGIN:VEVENT
DTSTART;VALUE=DATE:20231112
DTEND;VALUE=DATE:20231113
DTSTAMP:20260422T215140
CREATED:20231105T081838Z
LAST-MODIFIED:20231123T084006Z
UID:1806-1699747200-1699833599@gtco.ca
SUMMARY:Rise and Resist 2023
DESCRIPTION:Students of Niro Dance Creations performed this Sunday for Rise and Resist\, Performances and Exhibition by Local artist promoting diversity and inclusion.
URL:https://gtco.ca/event/rise-and-resist-2023/
LOCATION:St. Francis Centre for Art& Culture\, 78 Church Street\, Ajax\, Ontario\, L1S6A8\, Canada
ATTACH;FMTTYPE=image/jpeg:https://gtco.ca/wp-content/uploads/2023/11/Rise.jpg
ORGANIZER;CN="Niro Dance Creations":MAILTO:nirodance17@gmail.com
END:VEVENT
BEGIN:VEVENT
DTSTART;TZID=UTC:20230820T140000
DTEND;TZID=UTC:20230820T180000
DTSTAMP:20260422T215140
CREATED:20260108T104357Z
LAST-MODIFIED:20260118T112309Z
UID:3503-1692540000-1692554400@gtco.ca
SUMMARY:Global Tamil Fest 2023
DESCRIPTION:Global Tamil Cultural Organization presents \nGlobal Tamil Fest\nAccolades in the Art\nA Dance & Music Treat \nDate : August 20th\, 2023\nTime : Show Begins at 2PM\nVenue : Lester B. Pearson Memorial Theatre\, 150 Central Park Dr\, Brampton \nContact No : + 1(647) 801 2023\nEmail : gtco360@gmail.com \n \n\n\n\n\n\n\n\n\n\n\n\n\n\n\n   \n\n\n    \n\n\n            \n\n                \n\n				\n				\n              \n				IMG_7108\n              \n           \n   \n\n\n\n    \n\n\n            \n\n                \n\n				\n				\n              \n				IMG_4546\n              \n           \n   \n\n\n\n    \n\n\n            \n\n                \n\n				\n				\n              \n				3b9f46df-d51b-44b3-9c79-fe4f0cd7df30\n              \n           \n   \n\n\n\n    \n\n\n            \n\n                \n\n				\n				\n              \n				0eda4523-8563-4ac0-adde-4e6076272203
URL:https://gtco.ca/event/global-tamil-fest-2023/
LOCATION:Lester B. Pearson Memorial Theatre\, 150 Central Park Dr\, Brampton\, 150 Central Park Dr\,\, Brampton\, Ontario\, ON L6T 1B4\, Canada
ATTACH;FMTTYPE=image/jpeg:https://gtco.ca/wp-content/uploads/2025/09/WhatsApp-Image-2025-10-17-at-10.20.01_8b8b7d32.jpg
ORGANIZER;CN="Global Tamil Cultural Organization":MAILTO:gtco360@gmail.com
END:VEVENT
BEGIN:VEVENT
DTSTART;TZID=UTC:20221016T113000
DTEND;TZID=UTC:20221016T130000
DTSTAMP:20260422T215140
CREATED:20260108T105833Z
LAST-MODIFIED:20260118T112843Z
UID:3514-1665919800-1665925200@gtco.ca
SUMMARY:Global Tamil Fest 2022
DESCRIPTION:Global Tamil Cultural Organization presents \nGlobal Tamil Fest\nA Display of Tamil Arts and Culture \nDate : October 15th & 16th\, 2022\nTime : Show Begins at 11.30AM to 01.00PM \nContact No : + 1(647) 801 2023\nEmail : gtco360@gmail.com \n \n\n\n\n\n\n\n\n\n\n\n\n\n\n\n   \n\n\n    \n\n\n            \n\n                \n\n				\n				\n              \n				7e270398-84e6-4e34-af2c-0124d3d9b56d\n              \n           \n   \n\n\n\n    \n\n\n            \n\n                \n\n				\n				\n              \n				745683d5-4fda-415d-9654-95a3b193706b\n              \n           \n   \n\n\n\n    \n\n\n            \n\n                \n\n				\n				\n              \n				39570f55-316e-4a13-8816-d50edd1839e8\n              \n           \n   \n\n\n\n    \n\n\n            \n\n                \n\n				\n				\n              \n				380e794c-ef01-4b5f-8d88-8af1274e9a99
URL:https://gtco.ca/event/global-tamil-fest-2022/
LOCATION:Ontario
ATTACH;FMTTYPE=image/jpeg:https://gtco.ca/wp-content/uploads/2026/01/Global-Tamil-Fest-2022.jpg
ORGANIZER;CN="Global Tamil Cultural Organization":MAILTO:gtco360@gmail.com
END:VEVENT
BEGIN:VEVENT
DTSTART;TZID=UTC:20170624T220000
DTEND;TZID=UTC:20170624T233000
DTSTAMP:20260422T215140
CREATED:20170624T110007Z
LAST-MODIFIED:20250922T185951Z
UID:282-1498341600-1498347000@gtco.ca
SUMMARY:Bharatha Mile 1000 Dancers 2017
DESCRIPTION:CANADIAN TAMIL DANCERS MAKE HISTORY Toronto Tamils’ Fine Arts Association presented ‘Bharatha Mile 1000 Dancers – on June 24\, 2017\, at L’Amoreaux Sports Complex\, Toronto. It was a grand performance show cased by the students of 36 Tamil dance and 10 accompanying teachers\, in celebration of Canada’s 150th birthday and in support of the Scarborough Hospital. A total of 1117 dancers performed on a beautiful sunny evening that was eye catching and inspirational and making history as the largest dance performance out side of India.
URL:https://gtco.ca/event/bharatha-mile-1000-dancers/
LOCATION:L’Amoreaux Sports Complex\, Toronto\, 100 Silver Springs Blvd\, Scarborough\, Ontario\, ON M1V 1S4\, Canada
ATTACH;FMTTYPE=image/jpeg:https://gtco.ca/wp-content/uploads/2017/11/Event-2.jpg
ORGANIZER;CN="Niro Dance Creations":MAILTO:nirodance17@gmail.com
END:VEVENT
END:VCALENDAR