BEGIN:VCALENDAR
VERSION:2.0
PRODID:-//Global Tamil Cultural Organization - ECPv6.15.14//NONSGML v1.0//EN
CALSCALE:GREGORIAN
METHOD:PUBLISH
X-ORIGINAL-URL:https://gtco.ca
X-WR-CALDESC:Events for Global Tamil Cultural Organization
REFRESH-INTERVAL;VALUE=DURATION:PT1H
X-Robots-Tag:noindex
X-PUBLISHED-TTL:PT1H
BEGIN:VTIMEZONE
TZID:UTC
BEGIN:STANDARD
TZOFFSETFROM:+0000
TZOFFSETTO:+0000
TZNAME:UTC
DTSTART:20210101T000000
END:STANDARD
END:VTIMEZONE
BEGIN:VEVENT
DTSTART;TZID=UTC:20221016T113000
DTEND;TZID=UTC:20221016T130000
DTSTAMP:20260423T184708
CREATED:20260108T105833Z
LAST-MODIFIED:20260118T112843Z
UID:3514-1665919800-1665925200@gtco.ca
SUMMARY:Global Tamil Fest 2022
DESCRIPTION:Global Tamil Cultural Organization presents \nGlobal Tamil Fest\nA Display of Tamil Arts and Culture \nDate : October 15th & 16th\, 2022\nTime : Show Begins at 11.30AM to 01.00PM \nContact No : + 1(647) 801 2023\nEmail : gtco360@gmail.com \n \n\n\n\n\n\n\n\n\n\n\n\n\n\n\n   \n\n\n    \n\n\n            \n\n                \n\n				\n				\n              \n				7e270398-84e6-4e34-af2c-0124d3d9b56d\n              \n           \n   \n\n\n\n    \n\n\n            \n\n                \n\n				\n				\n              \n				745683d5-4fda-415d-9654-95a3b193706b\n              \n           \n   \n\n\n\n    \n\n\n            \n\n                \n\n				\n				\n              \n				39570f55-316e-4a13-8816-d50edd1839e8\n              \n           \n   \n\n\n\n    \n\n\n            \n\n                \n\n				\n				\n              \n				380e794c-ef01-4b5f-8d88-8af1274e9a99
URL:https://gtco.ca/event/global-tamil-fest-2022/
LOCATION:Ontario
ATTACH;FMTTYPE=image/jpeg:https://gtco.ca/wp-content/uploads/2026/01/Global-Tamil-Fest-2022.jpg
ORGANIZER;CN="Global Tamil Cultural Organization":MAILTO:gtco360@gmail.com
END:VEVENT
END:VCALENDAR