BEGIN:VCALENDAR
VERSION:2.0
PRODID:-//Global Tamil Cultural Organization - ECPv6.15.14//NONSGML v1.0//EN
CALSCALE:GREGORIAN
METHOD:PUBLISH
X-ORIGINAL-URL:https://gtco.ca
X-WR-CALDESC:Events for Global Tamil Cultural Organization
REFRESH-INTERVAL;VALUE=DURATION:PT1H
X-Robots-Tag:noindex
X-PUBLISHED-TTL:PT1H
BEGIN:VTIMEZONE
TZID:UTC
BEGIN:STANDARD
TZOFFSETFROM:+0000
TZOFFSETTO:+0000
TZNAME:UTC
DTSTART:20220101T000000
END:STANDARD
END:VTIMEZONE
BEGIN:VEVENT
DTSTART;VALUE=DATE:20231227
DTEND;VALUE=DATE:20240103
DTSTAMP:20260422T214917
CREATED:20171114T122929Z
LAST-MODIFIED:20250922T185920Z
UID:285-1703635200-1704239999@gtco.ca
SUMMARY:International Day for the Elimination of Racial Discrimination 2023
DESCRIPTION:Students of Niro Dance Creations performed this Sunday for the International Day for the Elimination of Racial Discrimination hosted by York Regional Police. It was a great event and our students performed beautifully. \n  \n  \n 
URL:https://gtco.ca/event/international-day-for-the-elimination-of-racial-discrimination/
LOCATION:Toronto\, Canada
ATTACH;FMTTYPE=image/jpeg:https://gtco.ca/wp-content/uploads/2017/11/Event-1.jpg
ORGANIZER;CN="Niro Dance Creations":MAILTO:nirodance17@gmail.com
END:VEVENT
BEGIN:VEVENT
DTSTART;TZID=UTC:20240101T000000
DTEND;TZID=UTC:20241130T000000
DTSTAMP:20260422T214917
CREATED:20250902T142756Z
LAST-MODIFIED:20250922T185825Z
UID:3268-1704067200-1732924800@gtco.ca
SUMMARY:Wellness Retreat for Older Seniors 2024
DESCRIPTION:Live activities 40 weeks starting from January to November 2024. \nInstructions in 3 languages – English\, French & Tamil \nInstructor : Swetha Para\nContact No : (647) 969 2661\nEmail : gtco360@gmail.com
URL:https://gtco.ca/event/wellness-retreat-for-older-seniors/
LOCATION:Wellness\, 1417 Rosebank Road\, Pickering\, Ontario
ATTACH;FMTTYPE=image/jpeg:https://gtco.ca/wp-content/uploads/2025/09/WhatsApp-Image-2025-09-02-at-19.21.58_5721ede1.jpg
ORGANIZER;CN="Global Tamil Cultural Organization":MAILTO:gtco360@gmail.com
END:VEVENT
END:VCALENDAR